BEGIN:VCALENDAR
VERSION:2.0
PRODID:-//Kino Tuškanac//Filmski programi//HR
BEGIN:VEVENT
UID:c7c8648bb2f9a1d935ab6717d47916d8@kinotuskanac.hr
DTSTAMP:20260423T195205Z
DTSTART:20090326T210000
DTEND:20090326T230000
SUMMARY:Čovjek koji je sadio drveće
LOCATION:Kino Tuškanac
DESCRIPTION:L'Homme qui plantait des arbres, 1987 R: Frédéric Back
END:VEVENT
END:VCALENDAR