BEGIN:VCALENDAR
VERSION:2.0
PRODID:-//Kino Tuškanac//Filmski programi//HR
BEGIN:VEVENT
UID:743fe84b1a1fa62c597e1568688433c9@kinotuskanac.hr
DTSTAMP:20260423T195734Z
DTSTART:20090327T190000
DTEND:20090327T210000
SUMMARY:Henry Dunant, crvenilo na križu
LOCATION:Kino Tuškanac
DESCRIPTION:Henry Dunant, du roue sur la croix, 2005 R: Dominique Othenin-Girard
END:VEVENT
END:VCALENDAR