BEGIN:VCALENDAR
VERSION:2.0
PRODID:-//Kino Tuškanac//Filmski programi//HR
BEGIN:VEVENT
UID:ffe35b764db86923027f53aa7cc5f7ae@kinotuskanac.hr
DTSTAMP:20260420T200037Z
DTSTART:20090328T190000
DTEND:20090328T210000
SUMMARY:Loša vjera
LOCATION:Kino Tuškanac
DESCRIPTION:Mauvaise foi, 2006 R: Roschdy Zem
END:VEVENT
END:VCALENDAR