BEGIN:VCALENDAR
VERSION:2.0
PRODID:-//Kino Tuškanac//Filmski programi//HR
BEGIN:VEVENT
UID:8096f312f01b09220755e48aea8f37c2@kinotuskanac.hr
DTSTAMP:20260425T203415Z
DTSTART:20090314T160000
DTEND:20090314T180000
SUMMARY:Liza i tigar
LOCATION:Kino Tuškanac
DESCRIPTION:Lisa und die Sabelzahntiger, 1995 R: Bernd Neuburger
END:VEVENT
END:VCALENDAR