BEGIN:VCALENDAR
VERSION:2.0
PRODID:-//Kino Tuškanac//Filmski programi//HR
BEGIN:VEVENT
UID:ae90a656079d40d9084dadc88f2f0fa6@kinotuskanac.hr
DTSTAMP:20260420T052604Z
DTSTART:20090414T203000
DTEND:20090414T223000
SUMMARY:Martin u oblacima
LOCATION:Kino Tuškanac
DESCRIPTION:1961 R: Branko Bauer
END:VEVENT
END:VCALENDAR