BEGIN:VCALENDAR
VERSION:2.0
PRODID:-//Kino Tuškanac//Filmski programi//HR
BEGIN:VEVENT
UID:1624937347a95bb823a4b038179cfd8b@kinotuskanac.hr
DTSTAMP:20260424T183022Z
DTSTART:20090415T202000
DTEND:20090415T222000
SUMMARY:Idu dani
LOCATION:Kino Tuškanac
DESCRIPTION:Jugoslavija: Hrvatska, Italija, 1969 R: Nedeljko Dragić
END:VEVENT
END:VCALENDAR