BEGIN:VCALENDAR
VERSION:2.0
PRODID:-//Kino Tuškanac//Filmski programi//HR
BEGIN:VEVENT
UID:9905172653b4c0fcf472e6c7d74b4ded@kinotuskanac.hr
DTSTAMP:20260425T015401Z
DTSTART:20090416T200000
DTEND:20090416T220000
SUMMARY:Gaziovac
LOCATION:Kino Tuškanac
DESCRIPTION:Jadran film, Jugoslavija, 1974 R: Nikola Babić
END:VEVENT
END:VCALENDAR