BEGIN:VCALENDAR
VERSION:2.0
PRODID:-//Kino Tuškanac//Filmski programi//HR
BEGIN:VEVENT
UID:400123a2a1acada835fb013ff15c8d99@kinotuskanac.hr
DTSTAMP:20260420T011929Z
DTSTART:20090417T200000
DTEND:20090417T220000
SUMMARY:Ljeto medvjedića
LOCATION:Kino Tuškanac
DESCRIPTION:1963 R: Branko Marjanović
END:VEVENT
END:VCALENDAR