BEGIN:VCALENDAR
VERSION:2.0
PRODID:-//Kino Tuškanac//Filmski programi//HR
BEGIN:VEVENT
UID:b817659d2eb75b2f3deb3be29824f896@kinotuskanac.hr
DTSTAMP:20260419T161843Z
DTSTART:20090417T203000
DTEND:20090417T223000
SUMMARY:Samo jednom se ljubi
LOCATION:Kino Tuškanac
DESCRIPTION:1981 R: Rajko Grlić
END:VEVENT
END:VCALENDAR