BEGIN:VCALENDAR
VERSION:2.0
PRODID:-//Kino Tuškanac//Filmski programi//HR
BEGIN:VEVENT
UID:869f5d00d56be299d8cd0a99861a57db@kinotuskanac.hr
DTSTAMP:20260419T225208Z
DTSTART:20090418T201500
DTEND:20090418T221500
SUMMARY:Satiemania
LOCATION:Kino Tuškanac
DESCRIPTION:Jugoslavija: Hrvatska, 1978 R: Zdenko Gašparović
END:VEVENT
END:VCALENDAR