BEGIN:VCALENDAR
VERSION:2.0
PRODID:-//Kino Tuškanac//Filmski programi//HR
BEGIN:VEVENT
UID:6ea610802e6a1cf758ac3f0c8a317111@kinotuskanac.hr
DTSTAMP:20260421T113704Z
DTSTART:20090419T200000
DTEND:20090419T220000
SUMMARY:Dernek
LOCATION:Kino Tuškanac
DESCRIPTION:1975 R: Zoran Tadić
END:VEVENT
END:VCALENDAR