BEGIN:VCALENDAR
VERSION:2.0
PRODID:-//Kino Tuškanac//Filmski programi//HR
BEGIN:VEVENT
UID:d97821b68da8a91d5cc4af404cc931de@kinotuskanac.hr
DTSTAMP:20260420T115022Z
DTSTART:20090421T184000
DTEND:20090421T204000
SUMMARY:Bećarac
LOCATION:Kino Tuškanac
DESCRIPTION:1966 R: Zlatko Bourek
END:VEVENT
END:VCALENDAR