BEGIN:VCALENDAR
VERSION:2.0
PRODID:-//Kino Tuškanac//Filmski programi//HR
BEGIN:VEVENT
UID:2a319e3d4429894823e0f2915f41621d@kinotuskanac.hr
DTSTAMP:20260425T173922Z
DTSTART:20030215T150000
DTEND:20030215T170000
SUMMARY:Madeleine
LOCATION:Kino Tuškanac
DESCRIPTION:1950 R: David Lean
END:VEVENT
END:VCALENDAR