BEGIN:VCALENDAR
VERSION:2.0
PRODID:-//Kino Tuškanac//Filmski programi//HR
BEGIN:VEVENT
UID:bee3c1288ae1edd5ec47f45136561b62@kinotuskanac.hr
DTSTAMP:20260423T115709Z
DTSTART:20090520T210000
DTEND:20090520T230000
SUMMARY:Krvnik
LOCATION:Kino Tuškanac
DESCRIPTION:El verdugo, Španjolska, Italija, 1963 R: Luis García Berlanga
END:VEVENT
END:VCALENDAR