BEGIN:VCALENDAR
VERSION:2.0
PRODID:-//Kino Tuškanac//Filmski programi//HR
BEGIN:VEVENT
UID:5ca9158e330f0011caac4c8db0899f2e@kinotuskanac.hr
DTSTAMP:20260423T115753Z
DTSTART:20090521T190000
DTEND:20090521T210000
SUMMARY:Krvnik
LOCATION:Kino Tuškanac
DESCRIPTION:El verdugo, Španjolska, Italija, 1963 R: Luis García Berlanga
END:VEVENT
END:VCALENDAR