BEGIN:VCALENDAR
VERSION:2.0
PRODID:-//Kino Tuškanac//Filmski programi//HR
BEGIN:VEVENT
UID:25a785f00e55d141d3e234e96817605d@kinotuskanac.hr
DTSTAMP:20260423T150512Z
DTSTART:20090521T210000
DTEND:20090521T230000
SUMMARY:Nacionalni lov
LOCATION:Kino Tuškanac
DESCRIPTION:La escopeta nacional, 1977 R: Luis García Berlanga
END:VEVENT
END:VCALENDAR