BEGIN:VCALENDAR
VERSION:2.0
PRODID:-//Kino Tuškanac//Filmski programi//HR
BEGIN:VEVENT
UID:d90f686be2f620f34a08c520e5daad80@kinotuskanac.hr
DTSTAMP:20260423T150612Z
DTSTART:20090522T190000
DTEND:20090522T210000
SUMMARY:Nacionalni lov
LOCATION:Kino Tuškanac
DESCRIPTION:La escopeta nacional, 1977 R: Luis García Berlanga
END:VEVENT
END:VCALENDAR