BEGIN:VCALENDAR
VERSION:2.0
PRODID:-//Kino Tuškanac//Filmski programi//HR
BEGIN:VEVENT
UID:069493c2a876eee0f4f8c7c6f0a0e234@kinotuskanac.hr
DTSTAMP:20260421T120435Z
DTSTART:20090525T200000
DTEND:20090525T220000
SUMMARY:Neuigrani
LOCATION:Kino Tuškanac
DESCRIPTION:Os desafinados, 2008 R: Walter Lima Jr.
END:VEVENT
END:VCALENDAR