BEGIN:VCALENDAR
VERSION:2.0
PRODID:-//Kino Tuškanac//Filmski programi//HR
BEGIN:VEVENT
UID:3877c88dfc9f8d9150e59c094f4dfc54@kinotuskanac.hr
DTSTAMP:20260421T120614Z
DTSTART:20090526T183000
DTEND:20090526T203000
SUMMARY:Neuigrani
LOCATION:Kino Tuškanac
DESCRIPTION:Os desafinados, 2008 R: Walter Lima Jr.
END:VEVENT
END:VCALENDAR