BEGIN:VCALENDAR
VERSION:2.0
PRODID:-//Kino Tuškanac//Filmski programi//HR
BEGIN:VEVENT
UID:95fa0795e0d8e6a191e96ddd9d2519bd@kinotuskanac.hr
DTSTAMP:20260421T113626Z
DTSTART:20090527T210000
DTEND:20090527T230000
SUMMARY:Zabranjeno zabraniti
LOCATION:Kino Tuškanac
DESCRIPTION:Proibido Proibir, 2007 R: Jorge Durán
END:VEVENT
END:VCALENDAR