BEGIN:VCALENDAR
VERSION:2.0
PRODID:-//Kino Tuškanac//Filmski programi//HR
BEGIN:VEVENT
UID:4d930efdf9bd02ee84294f2bf8fc1d39@kinotuskanac.hr
DTSTAMP:20260421T113705Z
DTSTART:20090528T190000
DTEND:20090528T210000
SUMMARY:Zabranjeno zabraniti
LOCATION:Kino Tuškanac
DESCRIPTION:Proibido Proibir, 2007 R: Jorge Durán
END:VEVENT
END:VCALENDAR