BEGIN:VCALENDAR
VERSION:2.0
PRODID:-//Kino Tuškanac//Filmski programi//HR
BEGIN:VEVENT
UID:db962d53319b60fa29160b5aa2ec72b2@kinotuskanac.hr
DTSTAMP:20260423T112409Z
DTSTART:20090529T210000
DTEND:20090529T230000
SUMMARY:Glavni kolodvor
LOCATION:Kino Tuškanac
DESCRIPTION:Central do Brasil, 1998 R: Walter Salles
END:VEVENT
END:VCALENDAR