BEGIN:VCALENDAR
VERSION:2.0
PRODID:-//Kino Tuškanac//Filmski programi//HR
BEGIN:VEVENT
UID:5ca118fe37e78d3da86b0ba1f06cb9ca@kinotuskanac.hr
DTSTAMP:20260423T112411Z
DTSTART:20090530T190000
DTEND:20090530T210000
SUMMARY:Glavni kolodvor
LOCATION:Kino Tuškanac
DESCRIPTION:Central do Brasil, 1998 R: Walter Salles
END:VEVENT
END:VCALENDAR