BEGIN:VCALENDAR
VERSION:2.0
PRODID:-//Kino Tuškanac//Filmski programi//HR
BEGIN:VEVENT
UID:9a3576c41a1c264533db7a1ca6f0e8d2@kinotuskanac.hr
DTSTAMP:20260423T161625Z
DTSTART:20090613T190000
DTEND:20090613T210000
SUMMARY:Divlji čovjek
LOCATION:Kino Tuškanac
DESCRIPTION:The Stalking Moon, 1969 R: Robert Mulligan
END:VEVENT
END:VCALENDAR