BEGIN:VCALENDAR
VERSION:2.0
PRODID:-//Kino Tuškanac//Filmski programi//HR
BEGIN:VEVENT
UID:40cc58ec743a542a6218557b5d624b5b@kinotuskanac.hr
DTSTAMP:20260423T112417Z
DTSTART:20090618T190000
DTEND:20090618T210000
SUMMARY:Bumerang (1947)
LOCATION:Kino Tuškanac
DESCRIPTION:Boomerang!, SAD, 1947 R: Elia Kazan
END:VEVENT
END:VCALENDAR