BEGIN:VCALENDAR
VERSION:2.0
PRODID:-//Kino Tuškanac//Filmski programi//HR
BEGIN:VEVENT
UID:457571c05d3ef3f35218dc3d0a981dbe@kinotuskanac.hr
DTSTAMP:20260423T112405Z
DTSTART:20090626T190000
DTEND:20090626T210000
SUMMARY:Amerika, Amerika
LOCATION:Kino Tuškanac
DESCRIPTION:America, America, SAD, 1963 R: Elia Kazan
END:VEVENT
END:VCALENDAR