BEGIN:VCALENDAR
VERSION:2.0
PRODID:-//Kino Tuškanac//Filmski programi//HR
BEGIN:VEVENT
UID:0260b28931ccbad0989b7da24fa8928d@kinotuskanac.hr
DTSTAMP:20260421T170611Z
DTSTART:20090615T212000
DTEND:20090615T232000
SUMMARY:Rusko meso
LOCATION:Kino Tuškanac
DESCRIPTION:Hrvatska, 1997 R: Lukas Nola
END:VEVENT
END:VCALENDAR