BEGIN:VCALENDAR
VERSION:2.0
PRODID:-//Kino Tuškanac//Filmski programi//HR
BEGIN:VEVENT
UID:f81851723a3f9b709e0f31e5029e8051@kinotuskanac.hr
DTSTAMP:20260419T225800Z
DTSTART:20090616T203000
DTEND:20090616T223000
SUMMARY:Puška za uspavljivanje
LOCATION:Kino Tuškanac
DESCRIPTION:Hrvatska, 1997 | Mjesto prikazivanja filma: Kulturno informativni centar KIC (Preradovićeva ul. 5) R: Hrvoje Hribar
END:VEVENT
END:VCALENDAR