BEGIN:VCALENDAR
VERSION:2.0
PRODID:-//Kino Tuškanac//Filmski programi//HR
BEGIN:VEVENT
UID:65070a0eba8e319819ae914198610e3b@kinotuskanac.hr
DTSTAMP:20260421T170538Z
DTSTART:20090618T213500
DTEND:20090618T233500
SUMMARY:Novogodišnja pljačka
LOCATION:Kino Tuškanac
DESCRIPTION:1997 R: Dražen Žarković
END:VEVENT
END:VCALENDAR