BEGIN:VCALENDAR
VERSION:2.0
PRODID:-//Kino Tuškanac//Filmski programi//HR
BEGIN:VEVENT
UID:566249c6a255fff007c40d8fac227d9c@kinotuskanac.hr
DTSTAMP:20260421T170610Z
DTSTART:20090620T213000
DTEND:20090620T233000
SUMMARY:Da mi je biti morski pas
LOCATION:Kino Tuškanac
DESCRIPTION:1999 R: Ognjen Sviličić
END:VEVENT
END:VCALENDAR