BEGIN:VCALENDAR
VERSION:2.0
PRODID:-//Kino Tuškanac//Filmski programi//HR
BEGIN:VEVENT
UID:fc54d9a85276899afe9b73739ce5c8ac@kinotuskanac.hr
DTSTAMP:20260421T135925Z
DTSTART:20090623T210000
DTEND:20090623T230000
SUMMARY:Bića sa slika
LOCATION:Kino Tuškanac
DESCRIPTION:1999 R: Damir Čučić
END:VEVENT
END:VCALENDAR