BEGIN:VCALENDAR
VERSION:2.0
PRODID:-//Kino Tuškanac//Filmski programi//HR
BEGIN:VEVENT
UID:15d02e20f714a4e6d63a0544a9a4101e@kinotuskanac.hr
DTSTAMP:20260421T184256Z
DTSTART:20090516T210000
DTEND:20090516T230000
SUMMARY:Američka noć
LOCATION:Kino Tuškanac
DESCRIPTION:La nuit américaine, Francuska, Italija, 1973 R: François Truffaut
END:VEVENT
END:VCALENDAR