BEGIN:VCALENDAR
VERSION:2.0
PRODID:-//Kino Tuškanac//Filmski programi//HR
BEGIN:VEVENT
UID:2c84c203d8657645037d20878ce6f877@kinotuskanac.hr
DTSTAMP:20260425T232642Z
DTSTART:20090517T050000
DTEND:20090517T070000
SUMMARY:Diva
LOCATION:Kino Tuškanac
DESCRIPTION:1981 R: Jean-Jacques Beineix
END:VEVENT
END:VCALENDAR