BEGIN:VCALENDAR
VERSION:2.0
PRODID:-//Kino Tuškanac//Filmski programi//HR
BEGIN:VEVENT
UID:744e5189f401c28d8e0ef411689da14c@kinotuskanac.hr
DTSTAMP:20260421T184143Z
DTSTART:20090630T200000
DTEND:20090630T220000
SUMMARY:Američka noć
LOCATION:Kino Tuškanac
DESCRIPTION:La nuit américaine, Francuska, Italija, 1973 R: François Truffaut
END:VEVENT
END:VCALENDAR