BEGIN:VCALENDAR
VERSION:2.0
PRODID:-//Kino Tuškanac//Filmski programi//HR
BEGIN:VEVENT
UID:86f3253e126c995522bd77e6b840e867@kinotuskanac.hr
DTSTAMP:20260422T021615Z
DTSTART:20090922T211500
DTEND:20090922T231500
SUMMARY:Usamljeno putovanje od tisuću kilometara
LOCATION:Kino Tuškanac
DESCRIPTION:Qian li zou dan qi, Kina, Hong Kong, Japan, 2005 R: Yimou Zhang
END:VEVENT
END:VCALENDAR