BEGIN:VCALENDAR
VERSION:2.0
PRODID:-//Kino Tuškanac//Filmski programi//HR
BEGIN:VEVENT
UID:beb9b266fa26bb667cb65a7a8155ade6@kinotuskanac.hr
DTSTAMP:20260422T021151Z
DTSTART:20090923T190000
DTEND:20090923T210000
SUMMARY:Usamljeno putovanje od tisuću kilometara
LOCATION:Kino Tuškanac
DESCRIPTION:Qian li zou dan qi, Kina, Hong Kong, Japan, 2005 R: Yimou Zhang
END:VEVENT
END:VCALENDAR