BEGIN:VCALENDAR
VERSION:2.0
PRODID:-//Kino Tuškanac//Filmski programi//HR
BEGIN:VEVENT
UID:59ce9286b3d1ea3fa7250e4b1dd37265@kinotuskanac.hr
DTSTAMP:20260423T135332Z
DTSTART:20090925T190000
DTEND:20090925T210000
SUMMARY:Mrtva priroda
LOCATION:Kino Tuškanac
DESCRIPTION:Sanxia haoren, 2006 R: Zhang-ke Jia
END:VEVENT
END:VCALENDAR