BEGIN:VCALENDAR
VERSION:2.0
PRODID:-//Kino Tuškanac//Filmski programi//HR
BEGIN:VEVENT
UID:8fa7e8075ad68cc6832ff3cad2a4f924@kinotuskanac.hr
DTSTAMP:20260422T011101Z
DTSTART:20030308T170000
DTEND:20030308T190000
SUMMARY:Tartüff
LOCATION:Kino Tuškanac
DESCRIPTION:Herr Tartüff, Njemačka, 1925 R: Friedrich Wilhelm Murnau
END:VEVENT
END:VCALENDAR