BEGIN:VCALENDAR
VERSION:2.0
PRODID:-//Kino Tuškanac//Filmski programi//HR
BEGIN:VEVENT
UID:02d29164d14dd09b040dcab22d4d147d@kinotuskanac.hr
DTSTAMP:20260419T185543Z
DTSTART:20091001T210000
DTEND:20091001T230000
SUMMARY:Jednom ćemo to nadvladati
LOCATION:Kino Tuškanac
DESCRIPTION:Pacchigi!, 2004 R: Kazuyuki Izutsu
END:VEVENT
END:VCALENDAR