BEGIN:VCALENDAR
VERSION:2.0
PRODID:-//Kino Tuškanac//Filmski programi//HR
BEGIN:VEVENT
UID:ebe8af0f7295a696250d622a3a421d35@kinotuskanac.hr
DTSTAMP:20260419T190013Z
DTSTART:20091002T190000
DTEND:20091002T210000
SUMMARY:Jednom ćemo to nadvladati
LOCATION:Kino Tuškanac
DESCRIPTION:Pacchigi!, 2004 R: Kazuyuki Izutsu
END:VEVENT
END:VCALENDAR