BEGIN:VCALENDAR
VERSION:2.0
PRODID:-//Kino Tuškanac//Filmski programi//HR
BEGIN:VEVENT
UID:df6ae965bbba82f987a254f84c4f8d79@kinotuskanac.hr
DTSTAMP:20260419T141828Z
DTSTART:20091003T211500
DTEND:20091003T231500
SUMMARY:Polovično priznanje
LOCATION:Kino Tuškanac
DESCRIPTION:Han-ochi, 2004 R: Kiyoshi Sasabe
END:VEVENT
END:VCALENDAR