BEGIN:VCALENDAR
VERSION:2.0
PRODID:-//Kino Tuškanac//Filmski programi//HR
BEGIN:VEVENT
UID:597974ed8dd2e0bc87c1d963d41e8d33@kinotuskanac.hr
DTSTAMP:20260419T142116Z
DTSTART:20091005T190000
DTEND:20091005T210000
SUMMARY:Polovično priznanje
LOCATION:Kino Tuškanac
DESCRIPTION:Han-ochi, 2004 R: Kiyoshi Sasabe
END:VEVENT
END:VCALENDAR