BEGIN:VCALENDAR
VERSION:2.0
PRODID:-//Kino Tuškanac//Filmski programi//HR
BEGIN:VEVENT
UID:7f0c4bff88c3e4fd613160f9282804ff@kinotuskanac.hr
DTSTAMP:20260421T165244Z
DTSTART:20091031T210000
DTEND:20091031T230000
SUMMARY:Obično nepoznati lopovi
LOCATION:Kino Tuškanac
DESCRIPTION:I soliti ignoti, 1958 R: Mario Monicelli
END:VEVENT
END:VCALENDAR