BEGIN:VCALENDAR
VERSION:2.0
PRODID:-//Kino Tuškanac//Filmski programi//HR
BEGIN:VEVENT
UID:83267ac77055e3814419af2e14499a87@kinotuskanac.hr
DTSTAMP:20260421T165151Z
DTSTART:20091102T180000
DTEND:20091102T200000
SUMMARY:Obično nepoznati lopovi
LOCATION:Kino Tuškanac
DESCRIPTION:I soliti ignoti, 1958 R: Mario Monicelli
END:VEVENT
END:VCALENDAR