BEGIN:VCALENDAR
VERSION:2.0
PRODID:-//Kino Tuškanac//Filmski programi//HR
BEGIN:VEVENT
UID:3866c768424aaeddf97b88cb3aa44c08@kinotuskanac.hr
DTSTAMP:20260421T170038Z
DTSTART:20091111T190000
DTEND:20091111T210000
SUMMARY:Razvod na talijanski način
LOCATION:Kino Tuškanac
DESCRIPTION:Divorzio all'italiana, 1961 R: Pietro Germi
END:VEVENT
END:VCALENDAR