BEGIN:VCALENDAR
VERSION:2.0
PRODID:-//Kino Tuškanac//Filmski programi//HR
BEGIN:VEVENT
UID:9aa81757c6cbcbd06c1f25fafb17ad90@kinotuskanac.hr
DTSTAMP:20260421T170259Z
DTSTART:20091112T210000
DTEND:20091112T230000
SUMMARY:Razvod na talijanski način
LOCATION:Kino Tuškanac
DESCRIPTION:Divorzio all'italiana, 1961 R: Pietro Germi
END:VEVENT
END:VCALENDAR