BEGIN:VCALENDAR
VERSION:2.0
PRODID:-//Kino Tuškanac//Filmski programi//HR
BEGIN:VEVENT
UID:23da635e1ebefa7316d984a9e8091dc6@kinotuskanac.hr
DTSTAMP:20260421T050926Z
DTSTART:20091113T190000
DTEND:20091113T210000
SUMMARY:Brak na talijanski način
LOCATION:Kino Tuškanac
DESCRIPTION:Matrimonio all'italiana, 1964 R: Vittorio De Sica
END:VEVENT
END:VCALENDAR