BEGIN:VCALENDAR
VERSION:2.0
PRODID:-//Kino Tuškanac//Filmski programi//HR
BEGIN:VEVENT
UID:1af55244b8e736183baec6c0ccd70e0e@kinotuskanac.hr
DTSTAMP:20260421T050918Z
DTSTART:20091114T210000
DTEND:20091114T230000
SUMMARY:Brak na talijanski način
LOCATION:Kino Tuškanac
DESCRIPTION:Matrimonio all'italiana, 1964 R: Vittorio De Sica
END:VEVENT
END:VCALENDAR