BEGIN:VCALENDAR
VERSION:2.0
PRODID:-//Kino Tuškanac//Filmski programi//HR
BEGIN:VEVENT
UID:6ed3baab759deaf46c2b5ed4df29d723@kinotuskanac.hr
DTSTAMP:20260423T145703Z
DTSTART:20091104T210000
DTEND:20091104T230000
SUMMARY:Romansa
LOCATION:Kino Tuškanac
DESCRIPTION:Romance, Brazil, 2008 R: Guel Arraes
END:VEVENT
END:VCALENDAR