BEGIN:VCALENDAR
VERSION:2.0
PRODID:-//Kino Tuškanac//Filmski programi//HR
BEGIN:VEVENT
UID:4b32391b9ff4ab70317eb00d62a1f588@kinotuskanac.hr
DTSTAMP:20260423T145725Z
DTSTART:20091105T190000
DTEND:20091105T210000
SUMMARY:Romansa
LOCATION:Kino Tuškanac
DESCRIPTION:Romance, Brazil, 2008 R: Guel Arraes
END:VEVENT
END:VCALENDAR